BEGIN:VCALENDAR
VERSION:2.0
PRODID:-//eventon.com NONSGML v1.0//EN
CALSCALE:GREGORIAN
METHOD:PUBLISH
BEGIN:VEVENT
UID:69e743b768dbc
DTSTAMP:20260421T093031Z
DTSTART:20260717T000000Z
DTEND:20260717T033000Z
LOCATION:The PAV (Pavilion at Wolf Lake Memorial Park) 2324 Calumet Ave\,  Hammond\,  IN 46320
SUMMARY:Jelly Roll
DESCRIPTION:Get ready for an unforgettable night as Jelly Roll takes over F
 estival of the Lakes on Thursday\,  July 17th! From &#8220;Son of a Sinner&
 #8221; to &#8220;Need a Favor\, &#8221; his powerful blend of country\,  ro
 ck\,  and soul will light up the stage for one of the most anticipated show
 s of the[..]\nhttps://www.wolflakepavilion.com/events/jelly-roll-071626/
URL:https://www.wolflakepavilion.com/events/jelly-roll-071626/
END:VEVENT
END:VCALENDAR