BEGIN:VCALENDAR
VERSION:2.0
PRODID:-//eventon.com NONSGML v1.0//EN
CALSCALE:GREGORIAN
METHOD:PUBLISH
BEGIN:VEVENT
UID:69e744a3e5850
DTSTAMP:20260421T093427Z
DTSTART:20260718T000000Z
DTEND:20260718T033000Z
LOCATION:The PAV (Pavilion at Wolf Lake Memorial Park) 2324 Calumet Ave\,  Hammond\,  IN 46320
SUMMARY:The Offspring
DESCRIPTION:The City of Hammond and Mayor Thomas M. McDermott\,  Jr. are ex
 cited to announce that iconic punk rock band The Offspring will headline th
 e Festival of the Lakes on Friday\,  July 17\,  2026. One of the most succe
 ssful punk bands of all time\,  The Offspring helped bring punk rock into[.
 .]\nhttps://www.wolflakepavilion.com/events/the-offspring-071726/
URL:https://www.wolflakepavilion.com/events/the-offspring-071726/
END:VEVENT
END:VCALENDAR