BEGIN:VCALENDAR
VERSION:2.0
PRODID:-//eventon.com NONSGML v1.0//EN
CALSCALE:GREGORIAN
METHOD:PUBLISH
BEGIN:VEVENT
UID:69e74539f033c
DTSTAMP:20260421T093657Z
DTSTART:20260720T000000Z
DTEND:20260720T033000Z
LOCATION:The PAV (Pavilion at Wolf Lake Memorial Park) 2324 Calumet Ave\,  Hammond\,  IN 46320
SUMMARY:Banda El Recodo
DESCRIPTION:\nhttps://www.wolflakepavilion.com/events/banda-el-recodo-07192
 6/
URL:https://www.wolflakepavilion.com/events/banda-el-recodo-071926/
END:VEVENT
END:VCALENDAR