BEGIN:VCALENDAR
VERSION:2.0
PRODID:-//eventon.com NONSGML v1.0//EN
CALSCALE:GREGORIAN
METHOD:PUBLISH
BEGIN:VEVENT
UID:69eb89e01084e
DTSTAMP:20260424T151856Z
DTSTART:20260719T000000Z
DTEND:20260719T033000Z
LOCATION:The PAV (Pavilion at Wolf Lake Memorial Park) 2324 Calumet Ave\,  Hammond\,  IN 46320
SUMMARY:Moneybagg Yo & Kevin Gates
DESCRIPTION:The City of Hammond and Mayor Thomas M. McDermott Jr. are excit
 ed to announce that hip-hop heavyweights Moneybagg Yo and Kevin Gates will 
 co-headline the Festival of the Lakes. Two of the biggest names in rap\,  M
 oneybagg Yo and Kevin Gates have dominated the charts with their signature 
 styles and[..]\nhttps://www.wolflakepavilion.com/events/money-bagg-yo-kevin
 -gates/
URL:https://www.wolflakepavilion.com/events/money-bagg-yo-kevin-gates/
END:VEVENT
END:VCALENDAR