BEGIN:VCALENDAR
VERSION:2.0
PRODID:-//eventon.com NONSGML v1.0//EN
CALSCALE:GREGORIAN
METHOD:PUBLISH
BEGIN:VEVENT
UID:69ecadccbe979
DTSTAMP:20260425T120428Z
DTSTART:20260816T000000Z
DTEND:20260816T045900Z
LOCATION:The PAV (Pavilion at Wolf Lake Memorial Park) 2324 Calumet Ave\,  Hammond\,  IN 46320
SUMMARY:KASHMIR
DESCRIPTION:Mayor Thomas M. McDermott\,  Jr. and The Hammond Port Authority
  are excited to welcome KASMIR to The Pavilion at Wolf Lake on Saturday\,  
 August 15th\,  2026! KASHMIR is a very entertaining show bringing only the 
 best of Led Zepplin to their fans. &nbsp;KASHMIR seeks to re-create the exp
 erience of a[..]\nhttps://www.wolflakepavilion.com/events/kashmir-2026/
URL:https://www.wolflakepavilion.com/events/kashmir-2026/
END:VEVENT
END:VCALENDAR